BEGIN:VCALENDAR
VERSION:2.0
METHOD:PUBLISH
PRODID:-//Telerik Inc.//Sitefinity CMS 14.4//EN
BEGIN:VTIMEZONE
TZID:Eastern Standard Time
BEGIN:STANDARD
DTSTART:20251102T020000
RRULE:FREQ=YEARLY;BYDAY=1SU;BYHOUR=2;BYMINUTE=0;BYMONTH=11
TZNAME:Eastern Standard Time
TZOFFSETFROM:-0400
TZOFFSETTO:-0500
END:STANDARD
BEGIN:DAYLIGHT
DTSTART:20250301T020000
RRULE:FREQ=YEARLY;BYDAY=2SU;BYHOUR=2;BYMINUTE=0;BYMONTH=3
TZNAME:Eastern Daylight Time
TZOFFSETFROM:-0500
TZOFFSETTO:-0400
END:DAYLIGHT
END:VTIMEZONE
BEGIN:VEVENT
DESCRIPTION:American Axle &amp\; Manufacturing Holdings\, Inc. (AAM)\, (NYS
 E: AXL) will participate in the 2018 J.P. Morgan Autos Conference on Augus
 t 8. Starting at 10:50 a.m. ET\, David C. Dauch\, AAM's Chairman and Chief
  Executive Officer\, will discuss recent business developments.\nA live au
 dio webcast will be accessible through the Investor Relations page on AAM&
 rsquo\;s website (www.aam.com). A replay of the webcast will be available 
 following the event. 
DTEND:20180808T153000Z
DTSTAMP:20260421T084319Z
DTSTART:20180808T145000Z
LOCATION:
SEQUENCE:0
SUMMARY:AAM to Present at the 2018 J.P. Morgan Autos Conference on August 8
UID:RFCALITEM639123577998742897
X-ALT-DESC;FMTTYPE=text/html:<p style="text-align: left\;"><span style="tex
 t-align: left\;">American Axle &amp\; Manufacturing Holdings\, Inc. (AAM)\
 , (NYSE: AXL) will participate in the 2018 J.P. Morgan Autos Conference on
  August 8. Starting at 10:50 a.m. ET\, David C. Dauch\, AAM's Chairman and
  Chief Executive Officer\, will discuss recent business developments.</spa
 n></p>\n<p style="text-align: left\;">A live audio webcast will be accessi
 ble through the Investor Relations page on AAM&rsquo\;s website (<a href="
 http://www.aam.com/">www.aam.com</a>). A replay of the webcast will be ava
 ilable following the event. </p>
END:VEVENT
END:VCALENDAR
